BEGIN:VCALENDAR
VERSION:2.0
PRODID:-//»wirundjetzt« - ECPv6.15.17.1//NONSGML v1.0//EN
CALSCALE:GREGORIAN
METHOD:PUBLISH
X-WR-CALNAME:»wirundjetzt«
X-ORIGINAL-URL:https://wirundjetzt.org
X-WR-CALDESC:Veranstaltungen für »wirundjetzt«
REFRESH-INTERVAL;VALUE=DURATION:PT1H
X-Robots-Tag:noindex
X-PUBLISHED-TTL:PT1H
BEGIN:VTIMEZONE
TZID:Europe/Berlin
BEGIN:DAYLIGHT
TZOFFSETFROM:+0100
TZOFFSETTO:+0200
TZNAME:CEST
DTSTART:20170326T010000
END:DAYLIGHT
BEGIN:STANDARD
TZOFFSETFROM:+0200
TZOFFSETTO:+0100
TZNAME:CET
DTSTART:20171029T010000
END:STANDARD
BEGIN:DAYLIGHT
TZOFFSETFROM:+0100
TZOFFSETTO:+0200
TZNAME:CEST
DTSTART:20180325T010000
END:DAYLIGHT
BEGIN:STANDARD
TZOFFSETFROM:+0200
TZOFFSETTO:+0100
TZNAME:CET
DTSTART:20181028T010000
END:STANDARD
BEGIN:DAYLIGHT
TZOFFSETFROM:+0100
TZOFFSETTO:+0200
TZNAME:CEST
DTSTART:20190331T010000
END:DAYLIGHT
BEGIN:STANDARD
TZOFFSETFROM:+0200
TZOFFSETTO:+0100
TZNAME:CET
DTSTART:20191027T010000
END:STANDARD
END:VTIMEZONE
BEGIN:VEVENT
DTSTART;TZID=Europe/Berlin:20180125T190000
DTEND;TZID=Europe/Berlin:20180125T190000
DTSTAMP:20260424T082311
CREATED:20171222T214004Z
LAST-MODIFIED:20171222T230627Z
UID:10000036-1516906800-1516906800@wirundjetzt.org
SUMMARY:Vorträge Bodenfruchtbarkeit
DESCRIPTION:Damit wir den Boden nicht unter den Füßen verlieren\n\nDer Boden bietet Lebensraum für zahlreiche Lebewesen und Pflanzen\, schafft wertvolle Lebensmittel und schützt als CO2-Speicher das Klima. Doch durch falsche Bewirtschaftungs- methoden und Verstädterung geht tagtäglich gesunder Boden verloren. Der biologische und biologisch- dynamische Landbau hat über Jahrzehnte nachhaltige Methoden entwickelt\, die die Bodenfruchtbarkeit fördern und erhalten. Doch diese sind oft arbeitsaufwendig und teuer. Wie können wir den Schutz unserer Lebensgrundlage gewährleisten? \n  \n  \n 
URL:https://wirundjetzt.org/event/vortraege-bodenfruchtbarkeit-2-2/
CATEGORIES:Vortrag
ATTACH;FMTTYPE=image/png:https://wirundjetzt.org/wp-content/uploads/2017/12/Unbenannt.png
END:VEVENT
BEGIN:VEVENT
DTSTART;TZID=Europe/Berlin:20180125T190000
DTEND;TZID=Europe/Berlin:20180125T210000
DTSTAMP:20260424T082311
CREATED:20171211T142029Z
LAST-MODIFIED:20171211T142029Z
UID:10000202-1516906800-1516914000@wirundjetzt.org
SUMMARY:Klimakrise\, Energiekrise\, Flüchtlingskrise\,
DESCRIPTION:Klimakrise\, Energiekrise\, Flüchtlingskrise\,\n\nDr. Franz Alt; Klimakrise\, Energiekrise\, Flüchtlingskrise\, \nWie alles mit allem zusammenhängt und wie aus Krisen Chancen entstehen \nDonnerstag\, 25. Jan 2018 19:00 Uhr Schwörsaal. Ravensburg
URL:https://wirundjetzt.org/event/klimakrise-energiekrise-fluechtlingskrise/
CATEGORIES:Vortrag
ATTACH;FMTTYPE=image/jpeg:https://wirundjetzt.org/wp-content/uploads/2017/12/Annonce-Franz-Alt-Linse.jpg
ORGANIZER;CN="BUND Ravensburg":MAILTO:manuel.schiffer@bund-ravensburg.de
END:VEVENT
BEGIN:VEVENT
DTSTART;TZID=Europe/Berlin:20180125T200000
DTEND;TZID=Europe/Berlin:20180125T220000
DTSTAMP:20260424T082311
CREATED:20180120T152427Z
LAST-MODIFIED:20180120T152427Z
UID:10000052-1516910400-1516917600@wirundjetzt.org
SUMMARY:Wandelraum Haslachhof
DESCRIPTION:Wandelraum Haslachhof \nAbend-Gesprächskreis am Haslachhof über verschiedene Themen: Globaler Wandel\, persönliche Lebensübergänge\, Tod und Sterben\, Geburt\, Jugendinitiation\, persönliche Wandelmomente… Immer am letzten Donnerstag eines jeden Monats um 20.00Uhr. Thema vorher erfragen oder auf der Homepage lesen. \nHaslachhof 1\, 88693 Deggenhausertalwww.gemeinschaft-haslachhof.deInfos: katharina.philipp@wirundjetzt.org \n  \n  \n 
URL:https://wirundjetzt.org/event/wandelraum-haslachhof/
LOCATION:Haslachhof\, Haslachhof 1\, Deggenhausertal\, Baden-Württemberg\, 88693\, Deutschland
CATEGORIES:Gesprächsrunde
ATTACH;FMTTYPE=image/jpeg:https://wirundjetzt.org/wp-content/uploads/2017/06/20141017_Vogelschwarm-am-Weiher_001.jpg
ORGANIZER;CN="Haslachhof":MAILTO: joachim.lang@gmx.de
GEO:47.7779168;9.4083337
X-APPLE-STRUCTURED-LOCATION;VALUE=URI;X-ADDRESS=Haslachhof Haslachhof 1 Deggenhausertal Baden-Württemberg 88693 Deutschland;X-APPLE-RADIUS=500;X-TITLE=Haslachhof 1:geo:9.4083337,47.7779168
END:VEVENT
END:VCALENDAR