BEGIN:VCALENDAR
VERSION:2.0
PRODID:-//»wirundjetzt« - ECPv6.15.17.1//NONSGML v1.0//EN
CALSCALE:GREGORIAN
METHOD:PUBLISH
X-ORIGINAL-URL:https://wirundjetzt.org
X-WR-CALDESC:Veranstaltungen für »wirundjetzt«
REFRESH-INTERVAL;VALUE=DURATION:PT1H
X-Robots-Tag:noindex
X-PUBLISHED-TTL:PT1H
BEGIN:VTIMEZONE
TZID:Europe/Berlin
BEGIN:DAYLIGHT
TZOFFSETFROM:+0100
TZOFFSETTO:+0200
TZNAME:CEST
DTSTART:20170326T010000
END:DAYLIGHT
BEGIN:STANDARD
TZOFFSETFROM:+0200
TZOFFSETTO:+0100
TZNAME:CET
DTSTART:20171029T010000
END:STANDARD
BEGIN:DAYLIGHT
TZOFFSETFROM:+0100
TZOFFSETTO:+0200
TZNAME:CEST
DTSTART:20180325T010000
END:DAYLIGHT
BEGIN:STANDARD
TZOFFSETFROM:+0200
TZOFFSETTO:+0100
TZNAME:CET
DTSTART:20181028T010000
END:STANDARD
BEGIN:DAYLIGHT
TZOFFSETFROM:+0100
TZOFFSETTO:+0200
TZNAME:CEST
DTSTART:20190331T010000
END:DAYLIGHT
BEGIN:STANDARD
TZOFFSETFROM:+0200
TZOFFSETTO:+0100
TZNAME:CET
DTSTART:20191027T010000
END:STANDARD
END:VTIMEZONE
BEGIN:VEVENT
DTSTART;TZID=Europe/Berlin:20180117T180000
DTEND;TZID=Europe/Berlin:20180117T193000
DTSTAMP:20260424T082307
CREATED:20180112T151940Z
LAST-MODIFIED:20180112T153407Z
UID:10000209-1516212000-1516217400@wirundjetzt.org
SUMMARY:Vielfalt in Gefahr
DESCRIPTION:Bemerkungen zur Biodiversität in mitteleuropäischen Kulturlandschaften \n\n. \n\n\n\n\n\n\nVielfalt in Gefahr  \nAm 17. Januar 2018 trägt Prof. Dr. Rainer Luick von der Hochschule für Forstwirtschaft Rottenburg in Weingarten vor.\n\nVielfalt in Gefahr – Bemerkungen zur Biodiversität in mitteleuropäischen Kulturlandschaften\n\nDie so genannten Planetary Boundaries (Belastungsgrenzen des Planeten Erde) sind ein Konzept über die ökologischen \nGrenzen der Erde. \nDie Planetary Bounderies priorisieren neun für das System Erde essentielle ökologische Dimensionen und definieren \nfür diese Dimensionen globale Grenzwerte. Im Einzelnen sind das: Klimawandel\, Biodiversitätsverlust\, biochemische \nKreisläufe\, Übersäuerung der Ozeane\, Süßwasserverbrauch\, Landnutzung\, stratosphärischer Ozonabbau\, Atmosphärische \nAerosole und Belastung durch Chemikalien. Wird eine Grenze überschritten\, ist mit der Gefahr irreversibler und \nplötzlicher Umweltveränderungen auszugehen\, die die Bewohnbarkeit der Erde für die Menschheit einschränken. \nDrei dieser ökologischen Dimensionen haben bereits quantifizierbar die Belastungsgrenzen überschritten; \ndas sind Klimawandel\, Stickstoffkreislauf und in besonderer Dramatik der Verlust an Biodiversität.\nIn der Erdgeschichte gab es bislang fünf Massensterben von Organismen; die Ursachen waren jeweils natürliche \nEreignisse und Prozesse. \nSeit geraumer Zeit wird ein sechstes Massensterben festgestellt\, das an Dramatik und Dimension ständig zunimmt \nund seine Ursachen allein im anthropogenen Handeln hat. Es sterben 1.000 bis 10.000-fach mehr Arten aus als \ndem natürlichen Verschwinden von Arten zuzurechnen wäre. \nDramatische Verluste an biologischer Vielfalt gibt es auch bei uns in Deutschland / in Baden-Württemberg und \nhier vor allem in den Ökosystemen außerhalb des Waldes also in unseren Kulturlandschaften. In den vergangenen \nMonaten wurden u. a. Untersuchungen publiziert\, dass in den vergangenen 3 Jahrzehnten rund 80 % der Insektenbiomasse \nin den Offenlandökosystemen verschwunden sind. \nDer Vortrag von Prof. Dr. Rainer Luck beleuchtet die Situation der Biodiversität\, benennt die Ursachen für die \ndramatischen Entwicklungen und diskutiert auch die dringend notwendigen Handlungskonzepte für Verbesserungen.\nDer Eintritt ist frei. \nWir freuen uns auf Sie!\n____________________________________________________________________________________________________________________\nInfos zur Vortragsreihe erhalten Sie unter: http://www.hs-weingarten.de/web/ethik-und-nachhaltigkeit/vortragsreihen\nOder unter: http://www.hs-weingarten.de/web/ethik-und-nachhaltigkeit/aktuelles\nNachhaltige Entwicklung an der Hochschule Ravensburg-Weingarten\, Doggenriedstraße\, 88250 Weingarten.
URL:https://wirundjetzt.org/event/vielfalt-in-gefahr-bemerkungen-zur-biodiversitaet-in-mitteleuropaeischen-kulturlandschaften/
CATEGORIES:Vortrag
ATTACH;FMTTYPE=image/jpeg:https://wirundjetzt.org/wp-content/uploads/2018/01/ethik-und-nachhaltigkeit.jpg
END:VEVENT
BEGIN:VEVENT
DTSTART;TZID=Europe/Berlin:20180117T180000
DTEND;TZID=Europe/Berlin:20180117T210000
DTSTAMP:20260424T082307
CREATED:20171222T203921Z
LAST-MODIFIED:20171222T215608Z
UID:10000034-1516212000-1516222800@wirundjetzt.org
SUMMARY:"Bauer unser" – Kinoabend mit Diskussion
DESCRIPTION:"Bauer unser"-Kinoabend mit Diskussion\n\nDer Film „Bauer unser“ zeigt ungeschönt und unaufgeregt\, wie es auf Bauernhöfen zugeht. Regisseur Robert Schabus bleibt in seiner Doku vordergründig unparteiisch. Doch so vielfältig die Landwirte – vom Bio-Bauern bis zum konventionellen Agraringenieur – so einhellig der Tenor: So kann und wird es nicht weitergehen. Das Mantra der Industrie – schneller\, billiger\, mehr – stellen die meisten von ihnen in Frage. Weit entfernt von rosigen Bildern einer ländlichen Idylle gibt es dennoch Momente der Hoffnung. Etwa wenn der Gemüsebauer und Rinderzüchter Simon Vetter stolz darauf ist\, ein Bauer zu sein\, der seine Kunden kennt und der Entfremdung entgegenhält. \nMit welchen Herausforderungen sind die Landwirte hier in der Bodenseeregion konfrontiert? Welche zukunftstauglichen Konzepte gibt es? Was können Verbraucher tun\, was die Politik? „Bauer unser“ wirft viele Fragen auf. Nach dem Abspann gibt es Gelegenheit\, diese Fragen zu diskutieren\, und zwar mit Praktikern aus verschiedenen Stufen der Wertschöpfungskette – vom Bio-Landwirt über den Großhandel bis hin zum Bio-Laden.Dazu gibt’s an der Theke im Foyer Bio-Popcorn und -Getränke aus der Region. \nAblauf:Begrüßung durch Nicole Lailach (Kino Überlingen)Film-Vorführung (89 min)Publikumsdiskussion mit Akteuren aus der Region:– Florian Reyer\, Bio-Landwirt\, Hofgemeinschaft Heggelbach.– Richard Nardo\, gelernter Landwirt und Inhaber von Rick’s Biomarkt\, Nußdorf.– Sascha Damaschun\, Naturkost-Großhandel BODAN\, Überlingen. \nZwecks Saalplanung bitten wir um Anmeldung – per Mail an simon.neitzel@wirundjetzt.org. \nTrailer: https://www.youtube.com/watch?v=7_nXbFiRYDEFacebook-Site: https://www.facebook.com/bauerunser/ Film-Kritik Süddeutsche Zeitung: http://www.sueddeutsche.de/leben/ein-hofbericht-wider-die-natur-1.3431215
URL:https://wirundjetzt.org/event/bauer-unser-kinoabend-mit-diskussion/
CATEGORIES:Film,Gesprächsrunde
ATTACH;FMTTYPE=image/jpeg:https://wirundjetzt.org/wp-content/uploads/2017/12/25398978_2072292089675133_2024002758576881710_n-1-e1513979731708.jpg
END:VEVENT
END:VCALENDAR