BEGIN:VCALENDAR
VERSION:2.0
PRODID:-//»wirundjetzt« - ECPv6.15.17.1//NONSGML v1.0//EN
CALSCALE:GREGORIAN
METHOD:PUBLISH
X-ORIGINAL-URL:https://wirundjetzt.org
X-WR-CALDESC:Veranstaltungen für »wirundjetzt«
REFRESH-INTERVAL;VALUE=DURATION:PT1H
X-Robots-Tag:noindex
X-PUBLISHED-TTL:PT1H
BEGIN:VTIMEZONE
TZID:Europe/Berlin
BEGIN:DAYLIGHT
TZOFFSETFROM:+0100
TZOFFSETTO:+0200
TZNAME:CEST
DTSTART:20170326T010000
END:DAYLIGHT
BEGIN:STANDARD
TZOFFSETFROM:+0200
TZOFFSETTO:+0100
TZNAME:CET
DTSTART:20171029T010000
END:STANDARD
BEGIN:DAYLIGHT
TZOFFSETFROM:+0100
TZOFFSETTO:+0200
TZNAME:CEST
DTSTART:20180325T010000
END:DAYLIGHT
BEGIN:STANDARD
TZOFFSETFROM:+0200
TZOFFSETTO:+0100
TZNAME:CET
DTSTART:20181028T010000
END:STANDARD
BEGIN:DAYLIGHT
TZOFFSETFROM:+0100
TZOFFSETTO:+0200
TZNAME:CEST
DTSTART:20190331T010000
END:DAYLIGHT
BEGIN:STANDARD
TZOFFSETFROM:+0200
TZOFFSETTO:+0100
TZNAME:CET
DTSTART:20191027T010000
END:STANDARD
END:VTIMEZONE
BEGIN:VEVENT
DTSTART;TZID=Europe/Berlin:20180114T140000
DTEND;TZID=Europe/Berlin:20180114T144500
DTSTAMP:20260424T082304
CREATED:20171211T135841Z
LAST-MODIFIED:20171211T135841Z
UID:10000217-1515938400-1515941100@wirundjetzt.org
SUMMARY:Informationsveranstaltung Solawi Bodensee
DESCRIPTION:Informationsveranstaltung Solawi Bodensee\n\nInformationsveranstaltung für Neueinsteiger und InteressierteWir präsentieren unsere Solawi und informieren über die Mitgliedschaft sowie die Möglichkeiten der Mitarbeit und der Förderung. Im Dorfgemeinschaftshaus Fichtenburgstr. 37\, FN-Raderach Am Sonntag\, 14.01.2018\, 14.00 – 14.45 Uhr vor der Bieterrunde \n 
URL:https://wirundjetzt.org/event/informationsveranstaltung-solawi-bodensee/
CATEGORIES:Aktionen,Gesprächsrunde
ATTACH;FMTTYPE=image/png:https://wirundjetzt.org/wp-content/uploads/2017/12/solawi-bodensee250.png
END:VEVENT
END:VCALENDAR