BEGIN:VCALENDAR
VERSION:2.0
PRODID:-//»wirundjetzt« - ECPv6.15.17.1//NONSGML v1.0//EN
CALSCALE:GREGORIAN
METHOD:PUBLISH
X-WR-CALNAME:»wirundjetzt«
X-ORIGINAL-URL:https://wirundjetzt.org
X-WR-CALDESC:Veranstaltungen für »wirundjetzt«
REFRESH-INTERVAL;VALUE=DURATION:PT1H
X-Robots-Tag:noindex
X-PUBLISHED-TTL:PT1H
BEGIN:VTIMEZONE
TZID:Europe/Berlin
BEGIN:DAYLIGHT
TZOFFSETFROM:+0100
TZOFFSETTO:+0200
TZNAME:CEST
DTSTART:20160327T010000
END:DAYLIGHT
BEGIN:STANDARD
TZOFFSETFROM:+0200
TZOFFSETTO:+0100
TZNAME:CET
DTSTART:20161030T010000
END:STANDARD
BEGIN:DAYLIGHT
TZOFFSETFROM:+0100
TZOFFSETTO:+0200
TZNAME:CEST
DTSTART:20170326T010000
END:DAYLIGHT
BEGIN:STANDARD
TZOFFSETFROM:+0200
TZOFFSETTO:+0100
TZNAME:CET
DTSTART:20171029T010000
END:STANDARD
BEGIN:DAYLIGHT
TZOFFSETFROM:+0100
TZOFFSETTO:+0200
TZNAME:CEST
DTSTART:20180325T010000
END:DAYLIGHT
BEGIN:STANDARD
TZOFFSETFROM:+0200
TZOFFSETTO:+0100
TZNAME:CET
DTSTART:20181028T010000
END:STANDARD
END:VTIMEZONE
BEGIN:VEVENT
DTSTART;TZID=Europe/Berlin:20171209T150000
DTEND;TZID=Europe/Berlin:20171209T170000
DTSTAMP:20260425T152452
CREATED:20171126T133137Z
LAST-MODIFIED:20171126T133137Z
UID:10000190-1512831600-1512838800@wirundjetzt.org
SUMMARY:Großes Regionaltreffen von Tauschen am See
DESCRIPTION:Großes Regionaltreffen von Tauschen am See\n\n15:00 – 17:00 Uhr\, „Großes Regionaltreffen von Tauschen am See“\, Vianney\, Überlingen \n  \n 
URL:https://wirundjetzt.org/event/grosses-regionaltreffen-von-tauschen-am-see/
CATEGORIES:Tauschtreffen
ATTACH;FMTTYPE=image/png:https://wirundjetzt.org/wp-content/uploads/2017/11/tauschenamsee.png
END:VEVENT
END:VCALENDAR