BEGIN:VCALENDAR
VERSION:2.0
PRODID:-//»wirundjetzt« - ECPv6.15.17.1//NONSGML v1.0//EN
CALSCALE:GREGORIAN
METHOD:PUBLISH
X-WR-CALNAME:»wirundjetzt«
X-ORIGINAL-URL:https://wirundjetzt.org
X-WR-CALDESC:Veranstaltungen für »wirundjetzt«
REFRESH-INTERVAL;VALUE=DURATION:PT1H
X-Robots-Tag:noindex
X-PUBLISHED-TTL:PT1H
BEGIN:VTIMEZONE
TZID:Europe/Berlin
BEGIN:DAYLIGHT
TZOFFSETFROM:+0100
TZOFFSETTO:+0200
TZNAME:CEST
DTSTART:20160327T010000
END:DAYLIGHT
BEGIN:STANDARD
TZOFFSETFROM:+0200
TZOFFSETTO:+0100
TZNAME:CET
DTSTART:20161030T010000
END:STANDARD
BEGIN:DAYLIGHT
TZOFFSETFROM:+0100
TZOFFSETTO:+0200
TZNAME:CEST
DTSTART:20170326T010000
END:DAYLIGHT
BEGIN:STANDARD
TZOFFSETFROM:+0200
TZOFFSETTO:+0100
TZNAME:CET
DTSTART:20171029T010000
END:STANDARD
BEGIN:DAYLIGHT
TZOFFSETFROM:+0100
TZOFFSETTO:+0200
TZNAME:CEST
DTSTART:20180325T010000
END:DAYLIGHT
BEGIN:STANDARD
TZOFFSETFROM:+0200
TZOFFSETTO:+0100
TZNAME:CET
DTSTART:20181028T010000
END:STANDARD
END:VTIMEZONE
BEGIN:VEVENT
DTSTART;TZID=Europe/Berlin:20171208T190000
DTEND;TZID=Europe/Berlin:20171208T220000
DTSTAMP:20260425T152410
CREATED:20171128T153701Z
LAST-MODIFIED:20171128T160703Z
UID:10000195-1512759600-1512770400@wirundjetzt.org
SUMMARY:Öko.See.Dorf - die Initiative für ein regeneratives Ökodorf im Bodenseekreis.
DESCRIPTION:Öko.See.Dorf" – die Initiative für ein regeneratives Ökodorf im Bodenseekreis\n\nInfoveranstaltung für Interessierte am Freitag\, den 8. Dezember 2017 von 19.00 – 20.30 Uhr Im Hier und Jetzt\, Bahnhofstrasse 21\, Friedrichshafen-Kluftern.Es wird um eine vorherige Anmeldung an mail@hener-lassonczyk.de gebeten. \nDie Vision: „ein Ökodorf für Menschen zu bauen\, die miteinander eine neue Kultur des gemeinschaftlichen Lebens und der Selbstbestimmung entwickeln möchten. In solch einer neu erschaffenen Umgebung können moderne Wohn-\, Arbeits- und Lebensformen entwickelt und ausprobiert werden. (…) Neben Wohnraum für Groß- und Kleinfamilien\, Paare\, WGs und Einzelne verschiedener Generationen und Kulturen sowie gemeinsam genutzten Räumen und Flächen sollen gewerbliche\, soziale\, ökologische und kulturelle Räume und Zusammenhänge geschaffen werden.“ \n  \n 
URL:https://wirundjetzt.org/event/oeko-see-dorf-die-initiative-fuer-ein-regeneratives-oekodorf-im-bodenseekreis/
CATEGORIES:Gesprächsrunde,Vortrag
ATTACH;FMTTYPE=image/jpeg:https://wirundjetzt.org/wp-content/uploads/2017/11/ökoseedorf_schmal.jpg
END:VEVENT
END:VCALENDAR