BEGIN:VCALENDAR
VERSION:2.0
PRODID:-//»wirundjetzt« - ECPv6.15.17.1//NONSGML v1.0//EN
CALSCALE:GREGORIAN
METHOD:PUBLISH
X-WR-CALNAME:»wirundjetzt«
X-ORIGINAL-URL:https://wirundjetzt.org
X-WR-CALDESC:Veranstaltungen für »wirundjetzt«
REFRESH-INTERVAL;VALUE=DURATION:PT1H
X-Robots-Tag:noindex
X-PUBLISHED-TTL:PT1H
BEGIN:VTIMEZONE
TZID:Europe/Berlin
BEGIN:DAYLIGHT
TZOFFSETFROM:+0100
TZOFFSETTO:+0200
TZNAME:CEST
DTSTART:20160327T010000
END:DAYLIGHT
BEGIN:STANDARD
TZOFFSETFROM:+0200
TZOFFSETTO:+0100
TZNAME:CET
DTSTART:20161030T010000
END:STANDARD
BEGIN:DAYLIGHT
TZOFFSETFROM:+0100
TZOFFSETTO:+0200
TZNAME:CEST
DTSTART:20170326T010000
END:DAYLIGHT
BEGIN:STANDARD
TZOFFSETFROM:+0200
TZOFFSETTO:+0100
TZNAME:CET
DTSTART:20171029T010000
END:STANDARD
BEGIN:DAYLIGHT
TZOFFSETFROM:+0100
TZOFFSETTO:+0200
TZNAME:CEST
DTSTART:20180325T010000
END:DAYLIGHT
BEGIN:STANDARD
TZOFFSETFROM:+0200
TZOFFSETTO:+0100
TZNAME:CET
DTSTART:20181028T010000
END:STANDARD
END:VTIMEZONE
BEGIN:VEVENT
DTSTART;TZID=Europe/Berlin:20171206T180000
DTEND;TZID=Europe/Berlin:20171206T200000
DTSTAMP:20260425T152409
CREATED:20171126T123731Z
LAST-MODIFIED:20171126T124029Z
UID:10000182-1512583200-1512590400@wirundjetzt.org
SUMMARY:Vom Anfang und Ende des Kapitalismus
DESCRIPTION:Vom Anfang und Ende des Kapitalismus \n\nWer den Kapitalismus verändern will\, muss ihn zunächst verstehen. Ulrike Herrmann erklärt\, wie der Kapitalismus entstanden ist\, woher das Wachstum kommt und warum Geld nicht reich macht. Sie beschreibt\, wie der Kapitalismus chaotisch zusammenbrechen wird – und warum man sich dieses Ende nicht friedlich vorstellen darf.  \n Ulrike Herrmann ist Wirtschaftskorrespondentin der „tageszeitung“ (taz). Sie ist ausgebildete Bankkauffrau und hat Geschichte und Philosophie an der FU Berlin studiert. Von ihr stammen die Bestseller „Der Sieg das Kapitals“ (Piper 2015) und „Kein Kapitalismus ist auch keine Lösung“ (Westend 2016) \n  \n  \n 
URL:https://wirundjetzt.org/event/vom-anfang-und-ende-des-kapitalismus/
CATEGORIES:Gesprächsrunde,Vortrag
ATTACH;FMTTYPE=image/jpeg:https://wirundjetzt.org/wp-content/uploads/2017/11/herrmann.jpg
END:VEVENT
END:VCALENDAR