BEGIN:VCALENDAR
VERSION:2.0
PRODID:-//»wirundjetzt« - ECPv6.15.17.1//NONSGML v1.0//EN
CALSCALE:GREGORIAN
METHOD:PUBLISH
X-ORIGINAL-URL:https://wirundjetzt.org
X-WR-CALDESC:Veranstaltungen für »wirundjetzt«
REFRESH-INTERVAL;VALUE=DURATION:PT1H
X-Robots-Tag:noindex
X-PUBLISHED-TTL:PT1H
BEGIN:VTIMEZONE
TZID:Europe/Berlin
BEGIN:DAYLIGHT
TZOFFSETFROM:+0100
TZOFFSETTO:+0200
TZNAME:CEST
DTSTART:20160327T010000
END:DAYLIGHT
BEGIN:STANDARD
TZOFFSETFROM:+0200
TZOFFSETTO:+0100
TZNAME:CET
DTSTART:20161030T010000
END:STANDARD
BEGIN:DAYLIGHT
TZOFFSETFROM:+0100
TZOFFSETTO:+0200
TZNAME:CEST
DTSTART:20170326T010000
END:DAYLIGHT
BEGIN:STANDARD
TZOFFSETFROM:+0200
TZOFFSETTO:+0100
TZNAME:CET
DTSTART:20171029T010000
END:STANDARD
BEGIN:DAYLIGHT
TZOFFSETFROM:+0100
TZOFFSETTO:+0200
TZNAME:CEST
DTSTART:20180325T010000
END:DAYLIGHT
BEGIN:STANDARD
TZOFFSETFROM:+0200
TZOFFSETTO:+0100
TZNAME:CET
DTSTART:20181028T010000
END:STANDARD
END:VTIMEZONE
BEGIN:VEVENT
DTSTART;TZID=Europe/Berlin:20171029T093000
DTEND;TZID=Europe/Berlin:20171029T170000
DTSTAMP:20260425T215205
CREATED:20171027T184933Z
LAST-MODIFIED:20171027T184933Z
UID:10000164-1509269400-1509296400@wirundjetzt.org
SUMMARY:Wirundjetzt - Infostand auf der BODAN Hausmesse
DESCRIPTION:wirundjetzt -Infostand auf der Bodan-Hausmesse\n\nDer Sonntag steht ganz im Zeichen von 100 % Bio. Der regionale Bio-Großhändler läd seine Kunden in die Messe Friedrichshafen zum Informieren\, Vernetzen\, neue Produkte kennenlernen….und mit wirundjetzt über die nachhaltige Wandelregion Bodensee zu diskutieren ein. \n(nur für Fachpublikum\, NaturkostladnerInnen aus ganz Süddeutschland)
URL:https://wirundjetzt.org/event/wirundjetzt-infostand-auf-der-bodan-hausmesse/
CATEGORIES:Bio,Nachhaltigkeit
ATTACH;FMTTYPE=image/jpeg:https://wirundjetzt.org/wp-content/uploads/2017/08/Bodan-1.jpg
END:VEVENT
END:VCALENDAR