BEGIN:VCALENDAR
VERSION:2.0
PRODID:-//»wirundjetzt« - ECPv6.15.17.1//NONSGML v1.0//EN
CALSCALE:GREGORIAN
METHOD:PUBLISH
X-WR-CALNAME:»wirundjetzt«
X-ORIGINAL-URL:https://wirundjetzt.org
X-WR-CALDESC:Veranstaltungen für »wirundjetzt«
REFRESH-INTERVAL;VALUE=DURATION:PT1H
X-Robots-Tag:noindex
X-PUBLISHED-TTL:PT1H
BEGIN:VTIMEZONE
TZID:Europe/Berlin
BEGIN:DAYLIGHT
TZOFFSETFROM:+0100
TZOFFSETTO:+0200
TZNAME:CEST
DTSTART:20160327T010000
END:DAYLIGHT
BEGIN:STANDARD
TZOFFSETFROM:+0200
TZOFFSETTO:+0100
TZNAME:CET
DTSTART:20161030T010000
END:STANDARD
BEGIN:DAYLIGHT
TZOFFSETFROM:+0100
TZOFFSETTO:+0200
TZNAME:CEST
DTSTART:20170326T010000
END:DAYLIGHT
BEGIN:STANDARD
TZOFFSETFROM:+0200
TZOFFSETTO:+0100
TZNAME:CET
DTSTART:20171029T010000
END:STANDARD
BEGIN:DAYLIGHT
TZOFFSETFROM:+0100
TZOFFSETTO:+0200
TZNAME:CEST
DTSTART:20180325T010000
END:DAYLIGHT
BEGIN:STANDARD
TZOFFSETFROM:+0200
TZOFFSETTO:+0100
TZNAME:CET
DTSTART:20181028T010000
END:STANDARD
END:VTIMEZONE
BEGIN:VEVENT
DTSTART;TZID=Europe/Berlin:20171013T080000
DTEND;TZID=Europe/Berlin:20171015T150000
DTSTAMP:20260425T233438
CREATED:20170918T102056Z
LAST-MODIFIED:20170918T115000Z
UID:10000020-1507881600-1508079600@wirundjetzt.org
SUMMARY:Das »Momo«-Projekt geht weiter
DESCRIPTION:Geld\, Zeit und Kommunikation in Bewegung\n\n\n \nEine Erfahrung zwischen Michael Endes Momo\, Gewaltfreier Kommunikation und Contact Improvisation\n\n\n\n\n\n\n\n\n\n\n\nWas hat Geld mit Kommunikation zu tun?\nWelchen Einfluss nehmen ökonomische Strukturen auf unser Verhalten? Und wie können wir diesem Einfluss begegnen?\n\nMichael Endes sanfte Heldin Momo und ihre besondere Fähigkeit mit ganzer Aufmerksamkeit zuzuhören begleitet uns auf einer Reise zu den grauen Herren\, innerhalb und außerhalb von uns selbst. \nMit Poesie\, Erzählungen\, Filmausschnitten und auf spielerische Weise ergründen wir kon iktfördernde und andere destruktive Wirkungen unserer derzeitigen ökonomischen Strukturen. \nWir erforschen Geld als gesellschaftsgestaltendes Werkzeug und erschließen zugleich Lösungswege aus zwischenmenschlichen Konflikten \nMit Hilfe der Gewaltfreien Kommunikation (GFK) nach Marshall B. Rosenberg. Die zeitgenössische Tanzform Contact Improvisation schafft Möglichkeiten für Begegnung\, macht Verbundenheit körperlich erfahrbar und ermöglicht so eine intuitive Form des Begreifens. \n\n\n\n\n\n\n\n\n\n\n\nSeminarzeiten\nFr 13. Oktober 19 bis 22 UhrSa 14. Oktober 10 bis 18 UhrSo 15. Oktober 10 bis 15 Uhr \nSamstag Abend von 19:30 bis 21:30 UhrOffene Abendveranstaltung – getanzter Vortrag & Gelegenheit zum Mittanzen (Contact-Jam) \n\nOrt\nIm Annahof 486150 Augsburg \n\nÜbernachtungsmöglichkeit\nKanuleistungszentrumAm Eiskanal 30a86161 AugsburgÜbernachtungswünsche bitte per Mail an masayo@40jahremomo.de mitteilen. \n\n\n\n\n\n\n\n\n\n\n\n\nAnmeldung und Infos » \nTrailer »\nAusführliche Seminarbeschreibung herunterladen »
URL:https://wirundjetzt.org/event/das-momo-projekt-geht-weiter/
CATEGORIES:Konferenz
ATTACH;FMTTYPE=image/jpeg:https://wirundjetzt.org/wp-content/uploads/2017/09/momo-1.jpg
END:VEVENT
END:VCALENDAR