BEGIN:VCALENDAR
VERSION:2.0
PRODID:-//»wirundjetzt« - ECPv6.15.17.1//NONSGML v1.0//EN
CALSCALE:GREGORIAN
METHOD:PUBLISH
X-ORIGINAL-URL:https://wirundjetzt.org
X-WR-CALDESC:Veranstaltungen für »wirundjetzt«
REFRESH-INTERVAL;VALUE=DURATION:PT1H
X-Robots-Tag:noindex
X-PUBLISHED-TTL:PT1H
BEGIN:VTIMEZONE
TZID:Europe/Berlin
BEGIN:DAYLIGHT
TZOFFSETFROM:+0100
TZOFFSETTO:+0200
TZNAME:CEST
DTSTART:20160327T010000
END:DAYLIGHT
BEGIN:STANDARD
TZOFFSETFROM:+0200
TZOFFSETTO:+0100
TZNAME:CET
DTSTART:20161030T010000
END:STANDARD
BEGIN:DAYLIGHT
TZOFFSETFROM:+0100
TZOFFSETTO:+0200
TZNAME:CEST
DTSTART:20170326T010000
END:DAYLIGHT
BEGIN:STANDARD
TZOFFSETFROM:+0200
TZOFFSETTO:+0100
TZNAME:CET
DTSTART:20171029T010000
END:STANDARD
BEGIN:DAYLIGHT
TZOFFSETFROM:+0100
TZOFFSETTO:+0200
TZNAME:CEST
DTSTART:20180325T010000
END:DAYLIGHT
BEGIN:STANDARD
TZOFFSETFROM:+0200
TZOFFSETTO:+0100
TZNAME:CET
DTSTART:20181028T010000
END:STANDARD
END:VTIMEZONE
BEGIN:VEVENT
DTSTART;TZID=Europe/Berlin:20170929T143000
DTEND;TZID=Europe/Berlin:20171001T133000
DTSTAMP:20260425T233437
CREATED:20170805T071839Z
LAST-MODIFIED:20170815T135857Z
UID:10000252-1506695400-1506864600@wirundjetzt.org
SUMMARY:ECS - Jahrestagung 2017
DESCRIPTION:Die Erde\, die uns trägt. Bedingungen einer aufbauenden Agrarkultur\n\nEuropean Centre for Sustainability Research ECS\, Zeppelin Universität \nCampus Seemoser Horn\, Friedrichshafen \nKaum ein Lebensbereich unserer Erde ist so direkt mit allen ökologischen und menschengemachten Prozessen und Veränderungen konfrontiert\, wie es die Landschaften und Böden sind. An und in ihnen berühren sich biologische Vielfalt mit menschlichen Wirtschaftstätigkeiten\, verbinden sich bio-chemische Ströme\, CO2-Speicherung\, Wasser- und energetische Kreisläufe. \nGanz herzlich sind Sie zur Jahrestagung 2017 des European Centre for Sustainability Research ECS der Zeppelin Universität in Kooperation mit dem World Future Council eingeladen. \nDie ECS-Jahrestagung 2017 wird als Werktstatttagung mit Akteur*innen aus Landwirtschaft\, Zivilgesellschaft und Wissenschaft durchgeführt. Alle Akteure – Bäuerinnen und Bauern\, landwirtschaftliche Betriebe\, Initiativen\, Organisationen und Gruppierungen -\, die dem großen Thema einer zukunftsfähigen Agrarkultur ihre Arbeit widmen\, sind herzlich eingeladen\, im Rahmen der ECS-Jahrestagung 2017 ihre Betriebe\, Projekte\, Initiativen\, Ideen und Motivationen vorzustellen\, sich zu vernetzen\, zu diskutieren und zu kollaborieren.  Datum: 29.9.2017\, 14.30 – 20.30 Uhr\, 30.9.2017\, 10 – 20.30 Uhr\, optional 1.10.2017\, 10 – 13.30 Uhr. \nOrt: European Centre for Sustainability Research ECS\, Zeppelin Universität\, Campus Seemoser Horn\, Friedrichshafen. \n  \nWir freuen uns\, Sie am Bodensee begrüßen zu dürfen! \nDr. J. Daniel Dahm (Vize Direktor ECS)\, Alexandra Wandel (CEO World Future Council) & das ECS-Team \n\n\n\n\n\n\n\n\n\n\n	\n		\n			\n			Anmeldung zur Tagung
URL:https://wirundjetzt.org/event/ecs-jahrestagung-2017/
CATEGORIES:Tagung
ATTACH;FMTTYPE=image/png:https://wirundjetzt.org/wp-content/uploads/2017/08/ECS.png
END:VEVENT
BEGIN:VEVENT
DTSTART;TZID=Europe/Berlin:20171001T103000
DTEND;TZID=Europe/Berlin:20171001T143000
DTSTAMP:20260425T233437
CREATED:20170817T074652Z
LAST-MODIFIED:20170817T081052Z
UID:10000110-1506853800-1506868200@wirundjetzt.org
SUMMARY:Bodenfruchtbarkeitstag bei der Solidarischen Landwirtschaft Ravensburg e.V.
DESCRIPTION:Die Auseinandersetzung mit dem Thema Bodenfruchtbarkeit hat in den letzten Jahren deutlich zugenommen. \nBilder von zu nassen oder zu trockenen Feldern\, Ertragseinbußen in der Landwirtschaft und nicht zuletzt der Faktor Klima und die\, seit einem Jahrzehnt aktuelle\, Debatte über CO² sind untrennbar mit der Fruchtbarkeit unserer Böden verwoben. \nDie Fruchtbarkeit unserer Böden ist maßgeblich für den Wohlstand unserer Gesellschaft verantwortlich. Diesen Wohlstand auch unseren Enkeln zu ermöglichen ist zum einen Aufgabe einer verantwortungsvollen und nachhaltigen Landwirtschaft und zum anderen eines verantwortungsvollen und nachhaltigen Konsums. Bodenfruchtbarkeit muss also als gemeinsames Anliegen von Erzeuger und Konsument getragen und umgesetzt werden. \nDer Bodenfruchtbarkeitsfonds und die Solidarische Landwirtschaft Ravensburg e.V. laden Sie ein\, mehr über die Auswirkungen und Möglichkeiten von fruchtbaren Böden zu erfahren. Gemeinsam mit Dr. Ulrich Hampl werden wir uns mit den Hintergründen\, Notwendigkeiten und der gesellschaftlichen Verantwortung\, sowie ganz praktischer Bodenwahrnehmung auseinander setzen. Denn begreifen kommt durch wahrnehmen und befähigt zum Handeln! \n\nProgramm\n\n\n10:30-10:45 Ankommen \n\n\n10:45-11:45 Einführender Vortrag  zum Thema: »Bodenfruchtbarkeit als gesellschaftliche Aufgabe« \n\n\n11:45-12:00 Pause \n\n\n12:00-13:30 Führung durch die Gärtnerei\, praktische Auseinandersetzung mit dem Boden \n\n\nAb 13:30 Gemeinsamer Austausch \n\n14:30 Ende\n\n\n\n\n\n\n\n\n\n\n\n\nBitte denken Sie an wettergerechte Kleidung/Schuhe\, die Veranstaltung findet bei jedem Wetter statt. \nEine Anmeldung ist gewünscht. Die Veranstaltung ist kostenlos. \nAnmeldung & Fragen:  \ndavid.steyer@solawi-ravensburg.de oder Tel. 015737283443
URL:https://wirundjetzt.org/event/bodenfruchtbarkeitstag-bei-der-solidarischen-landwirtschaft-ravensburg-e-v/
CATEGORIES:Nachhaltigkeit
ATTACH;FMTTYPE=image/jpeg:https://wirundjetzt.org/wp-content/uploads/2017/08/solwwi-boden-1.jpg
END:VEVENT
END:VCALENDAR