BEGIN:VCALENDAR
VERSION:2.0
PRODID:-//»wirundjetzt« - ECPv6.15.17.1//NONSGML v1.0//EN
CALSCALE:GREGORIAN
METHOD:PUBLISH
X-WR-CALNAME:»wirundjetzt«
X-ORIGINAL-URL:https://wirundjetzt.org
X-WR-CALDESC:Veranstaltungen für »wirundjetzt«
REFRESH-INTERVAL;VALUE=DURATION:PT1H
X-Robots-Tag:noindex
X-PUBLISHED-TTL:PT1H
BEGIN:VTIMEZONE
TZID:Europe/Berlin
BEGIN:DAYLIGHT
TZOFFSETFROM:+0100
TZOFFSETTO:+0200
TZNAME:CEST
DTSTART:20160327T010000
END:DAYLIGHT
BEGIN:STANDARD
TZOFFSETFROM:+0200
TZOFFSETTO:+0100
TZNAME:CET
DTSTART:20161030T010000
END:STANDARD
BEGIN:DAYLIGHT
TZOFFSETFROM:+0100
TZOFFSETTO:+0200
TZNAME:CEST
DTSTART:20170326T010000
END:DAYLIGHT
BEGIN:STANDARD
TZOFFSETFROM:+0200
TZOFFSETTO:+0100
TZNAME:CET
DTSTART:20171029T010000
END:STANDARD
BEGIN:DAYLIGHT
TZOFFSETFROM:+0100
TZOFFSETTO:+0200
TZNAME:CEST
DTSTART:20180325T010000
END:DAYLIGHT
BEGIN:STANDARD
TZOFFSETFROM:+0200
TZOFFSETTO:+0100
TZNAME:CET
DTSTART:20181028T010000
END:STANDARD
END:VTIMEZONE
BEGIN:VEVENT
DTSTART;VALUE=DATE:20170922
DTEND;VALUE=DATE:20170923
DTSTAMP:20260426T060527
CREATED:20170714T150021Z
LAST-MODIFIED:20170717T123652Z
UID:10000447-1506038400-1506124799@wirundjetzt.org
SUMMARY:Filme für die Erde Festival
DESCRIPTION:Wieder ist Winterthur Nachhaltig präsent am grössten Umweltfilm-Festival der Schweiz. \nAm Fr\, 22. Sept. laufen parallel in 15 Schweizer Städten\, so auch im Winterthurer KIWI Kino erschütternde\, bewegende und spannende Filme zu unterschiedlichen Themen (Programm). \nIn der Winterthur-Nachhalti- Lounge trifft man sich und zeigt man sich mit der eigenen Organisation. \nDas Kernteam Winterthur Nachhaltig informiert zwischen 15.00 und 16.00 Uhr im Foyer über »Perspektiven für Winterthur Nachhaltig« und wie es mit dem lebendigem Netzwerk konkret weiter geht. \nDas Filmfestival findet ebenso in Frauenfeld und St. Gallen statt. \nhttps://filmefuerdieerde.org
URL:https://wirundjetzt.org/event/filme-fuer-die-erde-festival/
LOCATION:KIWI Kino\, Neumarkt 11-13\, Winterthur\, 8401\, Schweiz
CATEGORIES:Festival,Film,Kultur
ATTACH;FMTTYPE=image/jpeg:https://wirundjetzt.org/wp-content/uploads/2017/07/Filme-für-die-Erde.jpg
GEO:47.498797;8.7260336
X-APPLE-STRUCTURED-LOCATION;VALUE=URI;X-ADDRESS=KIWI Kino Neumarkt 11-13 Winterthur 8401 Schweiz;X-APPLE-RADIUS=500;X-TITLE=Neumarkt 11-13:geo:8.7260336,47.498797
END:VEVENT
END:VCALENDAR