BEGIN:VCALENDAR
VERSION:2.0
PRODID:-//»wirundjetzt« - ECPv6.15.17.1//NONSGML v1.0//EN
CALSCALE:GREGORIAN
METHOD:PUBLISH
X-WR-CALNAME:»wirundjetzt«
X-ORIGINAL-URL:https://wirundjetzt.org
X-WR-CALDESC:Veranstaltungen für »wirundjetzt«
REFRESH-INTERVAL;VALUE=DURATION:PT1H
X-Robots-Tag:noindex
X-PUBLISHED-TTL:PT1H
BEGIN:VTIMEZONE
TZID:Europe/Berlin
BEGIN:DAYLIGHT
TZOFFSETFROM:+0100
TZOFFSETTO:+0200
TZNAME:CEST
DTSTART:20160327T010000
END:DAYLIGHT
BEGIN:STANDARD
TZOFFSETFROM:+0200
TZOFFSETTO:+0100
TZNAME:CET
DTSTART:20161030T010000
END:STANDARD
BEGIN:DAYLIGHT
TZOFFSETFROM:+0100
TZOFFSETTO:+0200
TZNAME:CEST
DTSTART:20170326T010000
END:DAYLIGHT
BEGIN:STANDARD
TZOFFSETFROM:+0200
TZOFFSETTO:+0100
TZNAME:CET
DTSTART:20171029T010000
END:STANDARD
BEGIN:DAYLIGHT
TZOFFSETFROM:+0100
TZOFFSETTO:+0200
TZNAME:CEST
DTSTART:20180325T010000
END:DAYLIGHT
BEGIN:STANDARD
TZOFFSETFROM:+0200
TZOFFSETTO:+0100
TZNAME:CET
DTSTART:20181028T010000
END:STANDARD
END:VTIMEZONE
BEGIN:VEVENT
DTSTART;TZID=Europe/Berlin:20170919T160000
DTEND;TZID=Europe/Berlin:20170919T183000
DTSTAMP:20260426T030215
CREATED:20170831T110430Z
LAST-MODIFIED:20170831T111916Z
UID:10000042-1505836800-1505845800@wirundjetzt.org
SUMMARY:WIR. Themenexkursion
DESCRIPTION:Höri-Bülle\n\n\n \nDie Höri-Bülle ist eine sehr feine\, rote Speisezwiebel\, die nur hier – auf der Bodensee-Halbinsel Höri – angebaut wird.\n\n\n\n\n\n\n\n\n\n\nThomas Keßler ist der einzige\, bei dem es diese alte regionale Landsorte in Demeter-Qualität gibt. Im Rahmen des WIR. Netzwerks lädt Gemüsebau Keßler zu einer Themenexkursion ein\, auf der Sie die besonderen Eigenschaften der Höri-Bülle ergründen\, bei der Verarbeitung mit anpacken und natürlich auch von der Bülle kosten können. \nTermin: Dienstag\, 19. Sep. 2017\, 16:00 bis 18:30 Uhr Ort: Gem. Keßler\, Im Moosfeld 1\, 78224 Singen-Bohlingen \nMöchten Sie dabei sein? Dann melden Sie sich am besten gleich an – per Mail an simon.neitzel@wirundjetzt.org. Die Teilnahme ist kostenfrei\, die Teilnehmerzahl auf 30 Personen begrenzt. Weitere Infos über Simon Neitzel\, Tel. 0151 / 21 61 59 68. \nPdf herunterladen »
URL:https://wirundjetzt.org/event/wir-themenexkursion/
CATEGORIES:WIR. Themenexkursion
ATTACH;FMTTYPE=image/jpeg:https://wirundjetzt.org/wp-content/uploads/2017/08/hoeribuelle.jpg
END:VEVENT
BEGIN:VEVENT
DTSTART;TZID=Europe/Berlin:20170919T200000
DTEND;TZID=Europe/Berlin:20170919T220000
DTSTAMP:20260426T030215
CREATED:20170817T081750Z
LAST-MODIFIED:20170817T084701Z
UID:10000092-1505851200-1505858400@wirundjetzt.org
SUMMARY:TOMORROW - Die Welt ist voller Lösungen
DESCRIPTION:Ein Film über die Lösungen die wir brauchen\, um den globalen ökologischen Kollaps aufzuhalten. Von dem Aktivisten Cyril Dion und der Schauspielerin Mélanie Laurent (Inglourious Basterds). Mit einer Million Zuschauern in Frankreich. Und einem César als Bester Dokumentarfilm ausgezeichnet. \n\nInfos hier: http://www.vaudeville.de/Programm# \nTraile: https://youtu.be/lJy_tAm9IJQ \n\n\n\n\n\n\n\n\n\n\n\nEinlass: 19.30 Uhr\, Beginn: 20.00 Uhr\nEintritt frei\, Spenden erwünscht
URL:https://wirundjetzt.org/event/politkino-in-lindau-tomorrow/
CATEGORIES:Film
ATTACH;FMTTYPE=image/jpeg:https://wirundjetzt.org/wp-content/uploads/2017/08/th-2.jpg
END:VEVENT
END:VCALENDAR