BEGIN:VCALENDAR
VERSION:2.0
PRODID:-//»wirundjetzt« - ECPv6.15.17.1//NONSGML v1.0//EN
CALSCALE:GREGORIAN
METHOD:PUBLISH
X-ORIGINAL-URL:https://wirundjetzt.org
X-WR-CALDESC:Veranstaltungen für »wirundjetzt«
REFRESH-INTERVAL;VALUE=DURATION:PT1H
X-Robots-Tag:noindex
X-PUBLISHED-TTL:PT1H
BEGIN:VTIMEZONE
TZID:Europe/Berlin
BEGIN:DAYLIGHT
TZOFFSETFROM:+0100
TZOFFSETTO:+0200
TZNAME:CEST
DTSTART:20160327T010000
END:DAYLIGHT
BEGIN:STANDARD
TZOFFSETFROM:+0200
TZOFFSETTO:+0100
TZNAME:CET
DTSTART:20161030T010000
END:STANDARD
BEGIN:DAYLIGHT
TZOFFSETFROM:+0100
TZOFFSETTO:+0200
TZNAME:CEST
DTSTART:20170326T010000
END:DAYLIGHT
BEGIN:STANDARD
TZOFFSETFROM:+0200
TZOFFSETTO:+0100
TZNAME:CET
DTSTART:20171029T010000
END:STANDARD
BEGIN:DAYLIGHT
TZOFFSETFROM:+0100
TZOFFSETTO:+0200
TZNAME:CEST
DTSTART:20180325T010000
END:DAYLIGHT
BEGIN:STANDARD
TZOFFSETFROM:+0200
TZOFFSETTO:+0100
TZNAME:CET
DTSTART:20181028T010000
END:STANDARD
END:VTIMEZONE
BEGIN:VEVENT
DTSTART;TZID=Europe/Berlin:20170903T100000
DTEND;TZID=Europe/Berlin:20170907T180000
DTSTAMP:20260426T060524
CREATED:20170815T110940Z
LAST-MODIFIED:20170815T110941Z
UID:10000136-1504432800-1504807200@wirundjetzt.org
SUMMARY:Ursprung-Festival
DESCRIPTION:Ursprung Festival\n\nAnreise ist ab 2. September möglich. Wir werden am 3.9.vormittags mit einer Eröffnungszeremonie beginnen und uns miteinander verbinden.  Nach dem Mittagessen: Die Aufteilung in Clans (wer mag) und das Einbringen weiterer Programmpunkte und Wünsche aus dem Kreis der Teilnehmer bilden den offiziellen Beginn. Am Abend: Lagerfeuer\, Musik und gemeinsames Feiern. \n Die einzelnen Tage wollen wir mit Angeboten wie z.B. Yoga\, Chi Gong beginnen und dann einen Morgenkreis anschließen. Nach dem Frühstück gibt es Gelegenheit für die Clans sich zu treffen und die Magie des Kreises zu spüren. Die Workshops\, Vorträge und Programmpunkte des Tages werden an einer Pinwand gesammelt und an den verschiedenen Plätzen im Wald und auf den Wiesen stattfinden. \n Folgendes ist bereits angekündigt:Morgenkreis: Margit\, Hermann\, Uli PetriSchwitzhütten Zeremonien für Frauen\, Männer und Kinder: Uli und Gabriele Petri\, Dirk Schröderkreatives gestalten für kleine und gro0e Leute:   Maresa SchwabSingen mit Kindern und Erwachsenen:  Margit und HermannÜbergangsrituale\, der bewusste Weg vom Kind zum Erwachsenen:  DirkFamilienlandsitze\, Mutterhof:  Robert BriechleKommunikation auf Augenhöhe: Kreiskultur und Soziokratie:   TomHomöopathie im Notfall\, Hilfe zur Selbsthilfe:  Heike SchippertCounceln\, Neu-und-Gut;  Contact-Impro-Workshop\, auch für und mit Kindern Margit und Hermann \nMit Gaia im Rhythmus – Heilender Tanz und Malen mit Kindern und Erwachsenen… Daniela WertheimDer Verein: Kurzeinführung für Interessierte + Fragerunde:     Konrad WimmerErfahrungs und Tätigkeitsbericht des Vereins Allerhand e.V.      Tom Talking Circle\, Redestab\, Erfahrungen aus dem Männerkreis\, Zwiegespräch etc:   UliErfahrungs-Berichte vom Sonnentanz\, von einer Hanbleca (Visionssuche):    Uli u. DirkKleine Knotenkunde von wirklich wichtigen Knoten z.B. Bankräuberknoten:   UliFrieden\, innerer Friede – Friedenskunst :   Dirk u.Daniela Wertheim \nWeitere Programmangebote können gerne noch eingebracht werden. Wildnis\,Naturhanwerk\, Kräuterkunde\, handgemachte Musik und Kinderprogramm sind willkommen. Wer weiteres anbieten möchte meldet sich bitte bei folgender Adresse:tom@ursprung.earthDie Anmeldung zum Camp (120 €) wird über die Vereinsmitgliedschaft hier gemacht:allerhand-am-alpenrand.de/mitglied-werden/Es ist möglich für die gesamte Zeit vom 3.-7-9. dabei zu sein (Jahresmitgliedschaft B) oder Tagesmitgliedschaften für 35 € pro Tag zu erwerben. Diese bitte per email antom@ursprung.earth  mit Angabe der Tage anmelden.Für das vegan-vegetarische Bioessen wird unser Biocaterer Vegetalis 100 € für die ganze Zeit bzw.. 20 € pro Tag einsammeln. Kinder bis 12 Jahre zahlen nichts. (Die Preisgestaltung ist ein Experiment und wir hoffen\, daß es funktioniert)Es ist nicht die Absicht des Vereins Allerhand e.V. mit diesem Camp Gewinne zu erzielen!   Unser Wunsch ist\, daß Naturcamps generationsübergreifend und mit gelebter Kreiskultur in jeder Region stattfinden und wollen die Teilnehmer dieses Festivals dazu ermuntern in ihrer Heimatregion solche Veranstaltungen ebenfalls durchzuführen.  \nWir freuen uns auf wundervolle gemeinsame Tage der Begegnung und Vernetzung!
URL:https://wirundjetzt.org/event/ursprung-festival/
CATEGORIES:Festival
ATTACH;FMTTYPE=image/jpeg:https://wirundjetzt.org/wp-content/uploads/2017/08/ursprung-festival.jpg
END:VEVENT
BEGIN:VEVENT
DTSTART;TZID=Europe/Berlin:20170906T120000
DTEND;TZID=Europe/Berlin:20170906T160000
DTSTAMP:20260426T060524
CREATED:20170719T090118Z
LAST-MODIFIED:20170724T114127Z
UID:10000394-1504699200-1504713600@wirundjetzt.org
SUMMARY:Sommerferienprogramm Ravensburg 2017
DESCRIPTION:»Buddeln\, ernten\, naschen\, selber machen!» ist das Motto der Kinder-Ferienprogramme von Ravensburg am Mittwoch\, den 06. September. \nDazu lädt der Verein der »Solidarischen Landwirtschaft Ravensburg e.V.« herzlich ein. \nSpielerisch und praktisch wird den Kindern Grundwissen über die Vielfalt und den Anbau von heimischem Obst und Gemüse vermittelt. \nGemeinsam wird reifes Gemüse geerntet und am offenen Feuer gekocht. Empfohlen werden ackertaugliche Kleidung\, Sonnen- bzw. Regenschutz\, ein kleines Vesper und etwas zu Trinken. \nDas Kinderferienprogramm von Ravensburg ist für Kinder und Jugendliche von 6-18 Jahren offen. Der Unkostenbeitrag beträgt 12 Euro. \nTreffpunkt ist um 12 Uhr direkt am Hof in Hübscher 1. Ende ist um 16 Uhr. \nSommerferienprogramm Weingarten 2017 » \nDie schriftliche Anmeldung ist direkt bei der Stadt in der Georgstraße 25 oder Mittelöschstraße 18 abzugeben. \nViele Grüße\,\nSonja Hummel \nIm Vorstand des Vereins\nSolidarische Landwirtschaft Ravensburg e.V.\nwww.solawi-ravensburg.de
URL:https://wirundjetzt.org/event/sommerferienprogramm-ravensburg-2017/
CATEGORIES:Ferienprogramm
ATTACH;FMTTYPE=image/jpeg:https://wirundjetzt.org/wp-content/uploads/2017/07/kinderferien.jpg
END:VEVENT
END:VCALENDAR