BEGIN:VCALENDAR
VERSION:2.0
PRODID:-//»wirundjetzt« - ECPv6.15.17.1//NONSGML v1.0//EN
CALSCALE:GREGORIAN
METHOD:PUBLISH
X-ORIGINAL-URL:https://wirundjetzt.org
X-WR-CALDESC:Veranstaltungen für »wirundjetzt«
REFRESH-INTERVAL;VALUE=DURATION:PT1H
X-Robots-Tag:noindex
X-PUBLISHED-TTL:PT1H
BEGIN:VTIMEZONE
TZID:Europe/Berlin
BEGIN:DAYLIGHT
TZOFFSETFROM:+0100
TZOFFSETTO:+0200
TZNAME:CEST
DTSTART:20160327T010000
END:DAYLIGHT
BEGIN:STANDARD
TZOFFSETFROM:+0200
TZOFFSETTO:+0100
TZNAME:CET
DTSTART:20161030T010000
END:STANDARD
BEGIN:DAYLIGHT
TZOFFSETFROM:+0100
TZOFFSETTO:+0200
TZNAME:CEST
DTSTART:20170326T010000
END:DAYLIGHT
BEGIN:STANDARD
TZOFFSETFROM:+0200
TZOFFSETTO:+0100
TZNAME:CET
DTSTART:20171029T010000
END:STANDARD
BEGIN:DAYLIGHT
TZOFFSETFROM:+0100
TZOFFSETTO:+0200
TZNAME:CEST
DTSTART:20180325T010000
END:DAYLIGHT
BEGIN:STANDARD
TZOFFSETFROM:+0200
TZOFFSETTO:+0100
TZNAME:CET
DTSTART:20181028T010000
END:STANDARD
END:VTIMEZONE
BEGIN:VEVENT
DTSTART;VALUE=DATE:20170807
DTEND;VALUE=DATE:20170812
DTSTAMP:20260426T060527
CREATED:20170606T133351Z
LAST-MODIFIED:20170715T091529Z
UID:10000099-1502064000-1502495999@wirundjetzt.org
SUMMARY:Blaue Blume e.V – Einladung zur Bauwoche
DESCRIPTION:Wie?\nAnmeldung (unten) ausfüllen & schicken Die Blaue Blume topft um! \nIm November 2015 topfte die Blaue Blume das erste Mal um – in eine illegale Ungewissheit\, auf eine lauschige Apfelwiese auf dem Windhager Hügel. Nach anderthalb Jahren stürmischer Stadtpolitik mit Gegen- und Rückenwind haben wir nun einen neuen Platz bekommen. \nZwischen dem 4. und 13. August ziehen wir um\, in einer bunten Festivalwoche mit Musik\, Workshops\, Feierei und einem Team aus tollen Menschen von Nah und Fern. Dazu möchten wir auch dich herzlich einladen! \n  \nWas ist die Blaue Blume?\nDie Blaue Blume ist ein Kultur- und Wohnprojekt mit ausgebauten Bau- und Zirkuswägen mitten auf einer Apfelwiese am schönen Bodensee. \nDas Herzstück bilden das klimpernde Glashaus\, unsere fahrbare Gewächshaus-Bühne\, und der Veranstaltungsbus Wedding. \nWir arbeiten in Selbstorganisation und richten Veranstaltungen grundsätzlich partizipativ und niederschwellig aus. In den vergangenen Jahren konnten wir zauberhafte Erinnerungen sammeln\, an Feierei im Freien\, Hängemattenschaukelei unter den Apfelblüten\, inspirierende Vorträge bei Ofenknistern und Filmvorführungen unterm Sternenhimmel. Diese vielen Momente und all die Menschen\, die sie gemeinsam erschaffen und erleben\, machen die Blaue Blume zu dem\, was sie ist. Daran wollen wir mit dem Umzug und einem blumig-wilden Festival anknüpfen.\nSommer\, Sonne\, Anpacken! \nVom 7. bis 11. August beziehen wir mit einer Bauwoche und Sack und Pack unser neues Zuhause.\nDabei verabschieden wir uns mit dem Festival von unserem alten (und liebgewonnenen) Platz\,weihen den neuen gemeinsam ein – und machen erneut Utopie zu Realität. \nWir möchten eine Woche gemeinsam verbringen\, in der wir die Blaue Blume in neue Erde pflanzen\, den neuen Platz gestalten und verschiedene Bauprojekte verwirklichen. \nDafür brauchen wir noch WerkelmeisterInnen\, Gestaltungswütige und alle anderen UtopistInnen! \nDas Zusammenleben in der Gruppe wollen wir kreativ und gemeinschaftlich gestalten. Wir werden gemeinsam kochen\, essen\, gemeinsam lachen und träumen. Mit unserem Umzug wollen wir an der Blauen Blume weiterbauen und zusammen mit dir und vielen anderen verrückten Menschen dieses Festival gestalten! \nEin Kulturprogramm\, bestehend aus Konzerten\, Vorträgen und Diskussionen\, Freiluftkino\, Workshops und natürlich rauen Partys in lauen Sommernächten\, ist gerade schon in Planung und wir freuen uns über Mitmachlust und Inspiration! Das Kulturprogramm wird hauptsächlich an den Wochenenden 5./6.8. und 12./13.8. stattfinden. \nJede*r ist zum Mitgestalten eingeladen! \n\nDu hast ein Herzensanliegen in der Welt?\nBist leidenschaftliche*r BäckerIn?\nHast Zauberhände\, wenn es um Holzarbeiten geht?\nOder wolltest das schon immer einmal ausprobieren?\nBring deine Ideen mit!\n\nDas Programm der Woche wird von allen gemeinsam geschaffen. Du kannst einen Workshop veranstalten\, eine Diskussion anleiten\, einen Vortrag halten\, Verantwortung in einem eigenen Bauprojekt übernehmen\, Musik mit uns machen\, Spiele spielen und und und.\nSchreib uns auf dem Anmeldeformular einfach\, was du brauchst\, dann können wir gemeinsam planen. \nWas kostet die Teilnahme?\nDie Teilnahme kostet nichts. Allerdings möchten wir dich bitten\, einen Solidarbeitrag für Essen in die Gemeinschaftskasse zu zahlen\, damit wir uns jeden Tag etwas Leckeres kochen können. \nAls Orientierung halten wir 5 € pro Tag für realistisch\, du kannst aber geben\, was du zu geben bereit bist. Der Solidarbeitrag ist keine Voraussetzung für deine Teilnahme. \nWir erhoffen uns eine bunte\, kraftspendende\, gemeinschaftliche Woche und das geht nur mit euch. Wir hoffen sehr\, dass ihr Lust habt im Sommer bei uns dabei zu sein. Bis bald! \n\nAnmeldung\nmehr Infos zum aktuellen Stand im Mai-Newsletter: https://www.facebook.com/derblauebote/posts/816366641851503
URL:https://wirundjetzt.org/event/einladung-zur-bauwoche/
CATEGORIES:Festival,Kultur,Musik
ATTACH;FMTTYPE=image/jpeg:https://wirundjetzt.org/wp-content/uploads/2017/06/Blaue-blume.jpg
ORGANIZER;CN="Die Blaue Blume":MAILTO:dieblaueblume@live.de
END:VEVENT
BEGIN:VEVENT
DTSTART;TZID=Europe/Berlin:20170808T170000
DTEND;TZID=Europe/Berlin:20170808T223000
DTSTAMP:20260426T060527
CREATED:20170715T135106Z
LAST-MODIFIED:20170724T170127Z
UID:10000073-1502211600-1502231400@wirundjetzt.org
SUMMARY:Greenpeace Sommerfest
DESCRIPTION:30-jähriges Jubiläum – wir laden herzlich ein! Der Eintritt ist frei. \nUnser Außenprogramm beginnt um 17 Uhr mit vielen Mitmachaktionen: Lasst euch überraschen\, es wird spannend! \nAuch Kindern wird es nicht langweilig werden – für Aktionen und Spiele ist gesorgt\, beispielsweise für ein Schnuppertrainung mit dem Slackline-Verein Konstanz (»Konstanz Slackt e. V.«). \nLive-Musik und ein biologisch-vegetarisches Essensangebot runden den Spaß ab. \nUm 20 Uhr dann das Highlight: die Multimedia-Show des Greenpeace-Fotografen Markus Mauthe. \nLasst euch entführen an magische Orte und in die beeindruckendsten Naturlandschaften unserer Erde! \nWer sich über unsere Arbeit und die Möglichkeiten\, sich sinnvoll bei uns einzubringen\, informieren will\, kommt ebenfalls auf seine Kosten. \nWir freuen uns auf euer Kommen!
URL:https://wirundjetzt.org/event/greenpeace-sommerfest/
LOCATION:Milchwerk Radolfzell\, Werner-Messmer-Straße 14\, Radolfzell\, 78315\, Deutschland
CATEGORIES:Sommerfest
ATTACH;FMTTYPE=image/jpeg:https://wirundjetzt.org/wp-content/uploads/2017/07/greenpeace-klein.jpg
ORGANIZER;CN="Greenpeace Bodensee":MAILTO:http://www.bodensee.greenpeace.de/kontakt
GEO:47.741805;8.973786
X-APPLE-STRUCTURED-LOCATION;VALUE=URI;X-ADDRESS=Milchwerk Radolfzell Werner-Messmer-Straße 14 Radolfzell 78315 Deutschland;X-APPLE-RADIUS=500;X-TITLE=Werner-Messmer-Straße 14:geo:8.973786,47.741805
END:VEVENT
END:VCALENDAR